BEGIN:VCALENDAR
VERSION:2.0
PRODID:icalendar-ruby
CALSCALE:GREGORIAN
METHOD:PUBLISH
BEGIN:VEVENT
DTSTAMP:20260420T130436Z
UID:108-1325974@saltcreekchurch.org
DTSTART:20260426T193000Z
DTEND:20260426T210000Z
CLASS:PUBLIC
CREATED:20260417T095712
DESCRIPTION:Mark your calendar for Sunday\, April 26\, immediately followin
 g the morning worship gathering\, for our quarterly church business meetin
 g. Stay and enjoy a potluck lunch and meaningful fellowship with our churc
 h family. Please bring a main dish and either a dessert or a salad to shar
 e. The church will provide plates\, utensils\, and drinks. Following lunch
 \, we’ll gather to share important ministry updates and attend to essent
 ial church business. All are welcome!
LAST-MODIFIED:20260417T095712
LOCATION:Salt Creek Baptist Church
SUMMARY:Church Business Meeting & Potluck
URL;VALUE=URI:https://www.saltcreekchurch.org/events/church-business-meetin
 g-potluck/2026-04-26
ATTACH;FILENAME=SCC Vrtical_Color.jpg;FMTTYPE=image/jpeg:https://dq5pwpg1q8
 ru0.cloudfront.net/2021/07/14/11/12/58/cc7d64e6-5c86-40e7-a387-413cae57991
 7/SCC%20Vrtical_Color.jpg
END:VEVENT
END:VCALENDAR
