BEGIN:VCALENDAR
VERSION:2.0
PRODID:icalendar-ruby
CALSCALE:GREGORIAN
METHOD:PUBLISH
BEGIN:VEVENT
DTSTAMP:20260426T013950Z
UID:303-1349915@saltcreekchurch.org
DTSTART:20260516T170000Z
DTEND:20260516T183000Z
CLASS:PUBLIC
CREATED:20260422T123220
DESCRIPTION:Join us for our Women’s Spring Brunch on May 16 at 10 a.m. En
 joy a wonderful time of food and fellowship. Please sign up at the church 
 Welcome Center to let us know you’ll be attending.
LAST-MODIFIED:20260422T123220
LOCATION:Salt Creek Baptist Church
SUMMARY:Women's Spring Brunch
URL;VALUE=URI:https://www.saltcreekchurch.org/events/womens-spring-brunch--
 303/2026-05-16
ATTACH;FILENAME=Women’s Spring (1).png;FMTTYPE=image/png:https://dq5pwpg1
 q8ru0.cloudfront.net/2026/04/22/19/32/20/1aae7872-02ad-4ab4-9008-ced2abb7c
 5cc/Women%E2%80%99s%20Spring%20(1).png
END:VEVENT
END:VCALENDAR
